BEGIN:VCALENDAR
VERSION:2.0
PRODID:-//French Creek Farms - ECPv6.15.20//NONSGML v1.0//EN
CALSCALE:GREGORIAN
METHOD:PUBLISH
X-ORIGINAL-URL:https://frenchcreekfarms.com
X-WR-CALDESC:Events for French Creek Farms
REFRESH-INTERVAL;VALUE=DURATION:PT1H
X-Robots-Tag:noindex
X-PUBLISHED-TTL:PT1H
BEGIN:VTIMEZONE
TZID:America/New_York
BEGIN:DAYLIGHT
TZOFFSETFROM:-0500
TZOFFSETTO:-0400
TZNAME:EDT
DTSTART:20180311T070000
END:DAYLIGHT
BEGIN:STANDARD
TZOFFSETFROM:-0400
TZOFFSETTO:-0500
TZNAME:EST
DTSTART:20181104T060000
END:STANDARD
BEGIN:DAYLIGHT
TZOFFSETFROM:-0500
TZOFFSETTO:-0400
TZNAME:EDT
DTSTART:20190310T070000
END:DAYLIGHT
BEGIN:STANDARD
TZOFFSETFROM:-0400
TZOFFSETTO:-0500
TZNAME:EST
DTSTART:20191103T060000
END:STANDARD
BEGIN:DAYLIGHT
TZOFFSETFROM:-0500
TZOFFSETTO:-0400
TZNAME:EDT
DTSTART:20200308T070000
END:DAYLIGHT
BEGIN:STANDARD
TZOFFSETFROM:-0400
TZOFFSETTO:-0500
TZNAME:EST
DTSTART:20201101T060000
END:STANDARD
BEGIN:DAYLIGHT
TZOFFSETFROM:-0500
TZOFFSETTO:-0400
TZNAME:EDT
DTSTART:20210314T070000
END:DAYLIGHT
BEGIN:STANDARD
TZOFFSETFROM:-0400
TZOFFSETTO:-0500
TZNAME:EST
DTSTART:20211107T060000
END:STANDARD
BEGIN:DAYLIGHT
TZOFFSETFROM:-0500
TZOFFSETTO:-0400
TZNAME:EDT
DTSTART:20220313T070000
END:DAYLIGHT
BEGIN:STANDARD
TZOFFSETFROM:-0400
TZOFFSETTO:-0500
TZNAME:EST
DTSTART:20221106T060000
END:STANDARD
BEGIN:DAYLIGHT
TZOFFSETFROM:-0500
TZOFFSETTO:-0400
TZNAME:EDT
DTSTART:20230312T070000
END:DAYLIGHT
BEGIN:STANDARD
TZOFFSETFROM:-0400
TZOFFSETTO:-0500
TZNAME:EST
DTSTART:20231105T060000
END:STANDARD
BEGIN:DAYLIGHT
TZOFFSETFROM:-0500
TZOFFSETTO:-0400
TZNAME:EDT
DTSTART:20240310T070000
END:DAYLIGHT
BEGIN:STANDARD
TZOFFSETFROM:-0400
TZOFFSETTO:-0500
TZNAME:EST
DTSTART:20241103T060000
END:STANDARD
BEGIN:DAYLIGHT
TZOFFSETFROM:-0500
TZOFFSETTO:-0400
TZNAME:EDT
DTSTART:20250309T070000
END:DAYLIGHT
BEGIN:STANDARD
TZOFFSETFROM:-0400
TZOFFSETTO:-0500
TZNAME:EST
DTSTART:20251102T060000
END:STANDARD
BEGIN:DAYLIGHT
TZOFFSETFROM:-0500
TZOFFSETTO:-0400
TZNAME:EDT
DTSTART:20260308T070000
END:DAYLIGHT
BEGIN:STANDARD
TZOFFSETFROM:-0400
TZOFFSETTO:-0500
TZNAME:EST
DTSTART:20261101T060000
END:STANDARD
END:VTIMEZONE
BEGIN:VEVENT
DTSTART;TZID=America/New_York:20250823T080000
DTEND;TZID=America/New_York:20250823T220000
DTSTAMP:20260423T113606
CREATED:20250725T210844Z
LAST-MODIFIED:20250725T210844Z
UID:4659-1755936000-1755986400@frenchcreekfarms.com
SUMMARY:Cornhole Fundraiser for Sugar Valley Lodge
DESCRIPTION:Cornhole Flyer
URL:https://frenchcreekfarms.com/event/cornhole-fundraiser-for-sugar-valley-lodge/
END:VEVENT
BEGIN:VEVENT
DTSTART;TZID=America/New_York:20250816T120000
DTEND;TZID=America/New_York:20250816T180000
DTSTAMP:20260423T113606
CREATED:20250402T212513Z
LAST-MODIFIED:20250402T212513Z
UID:4505-1755345600-1755367200@frenchcreekfarms.com
SUMMARY:Community Fishing Expo
DESCRIPTION:Free fishing\, kids activities\, tournament anglers will be attending\, local bait stores and bait makers will be attending.  Food and drink will be available for sale.
URL:https://frenchcreekfarms.com/event/community-fishing-expo/
END:VEVENT
BEGIN:VEVENT
DTSTART;TZID=America/New_York:20250705T183000
DTEND;TZID=America/New_York:20250705T213000
DTSTAMP:20260423T113606
CREATED:20250326T201148Z
LAST-MODIFIED:20250630T191411Z
UID:4493-1751740200-1751751000@frenchcreekfarms.com
SUMMARY:The Max Schang Band plays the barn
DESCRIPTION:Join us at the barn on Saturday July 5\, 2025 from 6:30-8:30pm for the fantastic Max Schang Band. Great music and a great time at the farm. We will be collecting a $10 cover under the tent and designated drivers will get a free “American” t-shirt. B.Y.O.B doors open at 7pm. Thanks for joining us at French Creek Farms for the holiday weekend.
URL:https://frenchcreekfarms.com/event/to-be-announced-band-2/
END:VEVENT
BEGIN:VEVENT
DTSTART;TZID=America/New_York:20250704T190000
DTEND;TZID=America/New_York:20250704T223000
DTSTAMP:20260423T113606
CREATED:20250326T200704Z
LAST-MODIFIED:20250326T200704Z
UID:4491-1751655600-1751668200@frenchcreekfarms.com
SUMMARY:Karaoke Night
DESCRIPTION:We are organizing a Karaoke night Friday July 4th. $5 to get into the event or $10 to participate. Half of entry money will go to the 1st and 2nd place winners of the Karaoke contest.
URL:https://frenchcreekfarms.com/event/karaoke-night/
END:VEVENT
BEGIN:VEVENT
DTSTART;TZID=America/New_York:20250524T200000
DTEND;TZID=America/New_York:20250524T230000
DTSTAMP:20260423T113606
CREATED:20250326T193811Z
LAST-MODIFIED:20250505T213506Z
UID:4489-1748116800-1748127600@frenchcreekfarms.com
SUMMARY:Flashbacks play the Barn
DESCRIPTION:On Saturday May 24th from 8-11pm we will be having a band\, the Flashbacks\, at the barn for Memorial Day Weekend. We are asking for $10 per person to help cover the band and the toilets. Hope to see you at French Creek Farms.
URL:https://frenchcreekfarms.com/event/to-be-announced-band/
END:VEVENT
BEGIN:VEVENT
DTSTART;TZID=America/New_York:20240901T190000
DTEND;TZID=America/New_York:20240901T220000
DTSTAMP:20260423T113606
CREATED:20240710T202728Z
LAST-MODIFIED:20240710T202728Z
UID:4331-1725217200-1725228000@frenchcreekfarms.com
SUMMARY:Eliot Lewis Playing Music in the Barn
DESCRIPTION:Multi-instrumentalist and solo artist\, Eliot Lewis has a career most musicians could only dream about. He has performed with many of the biggest names in the music business including\, Daryl Hall & John Oates\, Billy Gibbons (ZZ Top)\, Joe Walsh\, Todd Rundgren\, Train\, Cheap Trick\, Grace Potter\, Ben Folds\, Sammy Hagar\, BlackBerry Smoke\, Squeeze and many others. \n\n\n\n\nEqually at home in front of 100 or 15\,000 Eliot has performed on the worlds most prestigious stages\, including Madison Square Garden\, Japan’s Budokan\, Red Rocks\, The Hollywood Bowl\, Carnegie Hall as well as Late Night with Jimmy Fallon\, Conan O’Brien\, The Today Show\, Jimmy Kimmel and many others.
URL:https://frenchcreekfarms.com/event/eliot-lewis-playing-music-in-the-barn/
END:VEVENT
BEGIN:VEVENT
DTSTART;TZID=America/New_York:20240706T200000
DTEND;TZID=America/New_York:20240706T230000
DTSTAMP:20260423T113606
CREATED:20240605T123914Z
LAST-MODIFIED:20240605T123914Z
UID:4253-1720296000-1720306800@frenchcreekfarms.com
SUMMARY:Flashbacks at French Creek Farms
DESCRIPTION:Join us at the barn for the Band the Flashbacks. They will perform from 8-11pm on Saturday July 6. Public are welcome we are asking for a $5 cover for watching the band. Thanks.
URL:https://frenchcreekfarms.com/event/flashbacks-at-french-creek-farms/
END:VEVENT
BEGIN:VEVENT
DTSTART;TZID=America/New_York:20240525T200000
DTEND;TZID=America/New_York:20240525T220000
DTSTAMP:20260423T113606
CREATED:20240521T020319Z
LAST-MODIFIED:20240521T020319Z
UID:4234-1716667200-1716674400@frenchcreekfarms.com
SUMMARY:Band in the Barn "Flashback's"
DESCRIPTION:Join us in the Barn for a performance form the band “Flashback’s” on Saturday May 25 from 8-10pm. A $5 donation per person would be greatly appreciated. Thanks.
URL:https://frenchcreekfarms.com/event/band-in-the-barn-flashbacks/
END:VEVENT
BEGIN:VEVENT
DTSTART;TZID=America/New_York:20230903T103000
DTEND;TZID=America/New_York:20230903T210000
DTSTAMP:20260423T113606
CREATED:20230808T113333Z
LAST-MODIFIED:20230808T113333Z
UID:4087-1693737000-1693774800@frenchcreekfarms.com
SUMMARY:Ken Bryan's Campaign Cornhole Tournament
DESCRIPTION:Come out to French Creek Farms September 3 for a Cornhole Tournament. Format is a Switch Tournament (Gauranteed to play at least 6 games). $20 Entry with 60% payouts. $1 wings and drink specials available. Use the link and form to register or registration open at 10:30 am tourney starts at 12 noon. Thanks.
URL:https://frenchcreekfarms.com/event/ken-bryans-campaign-cornhole-tournament/
END:VEVENT
BEGIN:VEVENT
DTSTART;TZID=America/New_York:20230902T190000
DTEND;TZID=America/New_York:20230902T220000
DTSTAMP:20260423T113606
CREATED:20230808T113756Z
LAST-MODIFIED:20230808T113756Z
UID:4090-1693681200-1693692000@frenchcreekfarms.com
SUMMARY:Music In The Barn
DESCRIPTION:Come hang out in the barn at French Creek Farms on Saturday September 2nd. We will play some music via electronic device and there may even be some dancing under the pale moonlight. Open to campers or anyone that wants to stop by. This event is from 7-10pm. Thanks
URL:https://frenchcreekfarms.com/event/music-in-the-barn/
END:VEVENT
BEGIN:VEVENT
DTSTART;TZID=America/New_York:20230630T130000
DTEND;TZID=America/New_York:20230704T220000
DTSTAMP:20260423T113606
CREATED:20230618T062727Z
LAST-MODIFIED:20230618T062829Z
UID:3972-1688130000-1688508000@frenchcreekfarms.com
SUMMARY:Fourth of July Weekend
DESCRIPTION:Join French Creek Farms July 1-4 and decorate your campsite in a Patriotic theme. Most Patriotic campsite wins a free night at French Creek Farms and a case of beer. On Saturday July 1st join DJ Sara in the barn for a dance party from 8pm-10pm. We look forward to another great holiday weekend at French Creek Farms.
URL:https://frenchcreekfarms.com/event/fourth-of-july-weekend/
END:VEVENT
BEGIN:VEVENT
DTSTART;TZID=America/New_York:20230527T200000
DTEND;TZID=America/New_York:20230527T220000
DTSTAMP:20260423T113606
CREATED:20230525T173250Z
LAST-MODIFIED:20230525T190757Z
UID:3944-1685217600-1685224800@frenchcreekfarms.com
SUMMARY:Max Schang at French Creek Farms
DESCRIPTION:Come celebrate Memorial Day at French Creek Farms with The Max Schang Band from 7-9pm on Saturday May 27th. Please pay a $10.00 Cover. Thanks
URL:https://frenchcreekfarms.com/event/max-schang-at-french-creek-farms/
END:VEVENT
BEGIN:VEVENT
DTSTART;TZID=America/New_York:20220831T170000
DTEND;TZID=America/New_York:20220831T190000
DTSTAMP:20260423T113606
CREATED:20220713T181724Z
LAST-MODIFIED:20220713T182610Z
UID:3648-1661965200-1661972400@frenchcreekfarms.com
SUMMARY:Mike Kelly Coming To French Creek Farms
DESCRIPTION:You’re Invited to meet your Congressman Mike Kelly! \nJoin us for food\, drinks and conversation! \nAugust 31st\, 2022 \nTIME: 5-7PM\nLOCATION: French Creek Farms\n1976 Grant St\, Utica\, PA \nCOST: Free! \nRSVP to Melanie at 814.218.0563 or\nmelanie@mikekellyforcongress
URL:https://frenchcreekfarms.com/event/mike-kelly-at-french-creek-farms/
LOCATION:French Creek Farms\, 1976 Grant St.\, Utica\, PA\, 16362\, United States
END:VEVENT
BEGIN:VEVENT
DTSTART;TZID=America/New_York:20220703T190000
DTEND;TZID=America/New_York:20220703T220000
DTSTAMP:20260423T113606
CREATED:20220223T150406Z
LAST-MODIFIED:20220531T171341Z
UID:1808-1656874800-1656885600@frenchcreekfarms.com
SUMMARY:Re•Issue Playing At French Creek Farms Sunday July 3rd
DESCRIPTION:Please join us Sunday July 3rd from 7-10pm to listen to live music from Re•Issue as they rock the barn with top notch classic rock and Americana music! With world class artist playing great music there is something for everyone to enjoy. Doors open at 6pm. There will be adult beverages available at the bar in the barn. There will be a food vendor on site as well. Book a campsite and stay the weekend HERE\, or hop in your side-by-side and bring your friends and your dancing shoes. It is $5 to get in the doors\, this is a 21+ event. The camp grounds is pet friendly\, but please no pets in the barn. \nCheck out Re•Issue’s Facebook page HERE. Sample some of their music HERE. \nWe do ask to be courteous to land owners and our neighbors with your off-road vehicles. This is a close community and look after one another and each others kids\, so please be mindful of speed limits and loud exhausts when traveling in town. We enjoy putting on these events and want them to continue for years to come and with your help we can make that happen.
URL:https://frenchcreekfarms.com/event/re-issue-playing-at-french-creek-farms/
END:VEVENT
BEGIN:VEVENT
DTSTART;TZID=America/New_York:20220528T190000
DTEND;TZID=America/New_York:20220528T220000
DTSTAMP:20260423T113606
CREATED:20220223T145054Z
LAST-MODIFIED:20220526T181516Z
UID:1806-1653764400-1653775200@frenchcreekfarms.com
SUMMARY:Max Schang at French Creek Farms Memorial Day
DESCRIPTION:Please join us Saturday May 28th from 7-10pm to listen to Max Schang and gang rock the barn with top notch classic rock and blues! With world class artist playing great music there is something for everyone to enjoy. Doors open at 6pm. There will be beverages available through Lake Hill Brewing Co. in the barn. This is a 21+ event. There will be a food vendor on site as well. Book a campsite and stay the weekend\, or hop in your side-by-side and bring your friends and your dancing shoes. There will be a $5 cover to get in doors. You can pre-order through the website HERE\, then just show your receipt at the door. \nWe do ask to be courteous to land owners and our neighbors with your off-road vehicles. This is a close community and look after one another and each others kids\, so please be mindful of speed limits and loud exhausts when traveling in town. We enjoy putting on these events and want them to continue for years to come and with your help we can make that happen.
URL:https://frenchcreekfarms.com/event/max-schang-at-french-creek-farms-memorial-day/
END:VEVENT
BEGIN:VEVENT
DTSTART;TZID=America/New_York:20210904T160000
DTEND;TZID=America/New_York:20210904T230000
DTSTAMP:20260423T113606
CREATED:20210716T095232Z
LAST-MODIFIED:20210810T222850Z
UID:1663-1630771200-1630796400@frenchcreekfarms.com
SUMMARY:Dead Level at French Creek Farms Labor Day Weekend!
DESCRIPTION:French Creek Farms Presents Dead Level! \nOne of the hottest\, most popular local bands in our region. \nThe barn opens at 4pm\, the band starts at 6pm. \n$5.00 COVER CHARGE \nJP’s Tickle My Ribs and Dad Bodz Burgers will be serving food starting at 4pm. \nRaffle and 50/50 Tickets going on sale at 4pm. \nNO BYOB! \nYou may bring blankets or chairs for lawn seating. \nhttps://www.facebook.com/deadlevel \nhttps://www.facebook.com/ticklemyribsBBQ/ \n 
URL:https://frenchcreekfarms.com/event/dead-level-at-french-creek-farms-labor-day-weekend/
LOCATION:French Creek Farms\, 1976 Grant St.\, Utica\, PA\, 16362\, United States
END:VEVENT
BEGIN:VEVENT
DTSTART;VALUE=DATE:20210702
DTEND;VALUE=DATE:20210703
DTSTAMP:20260423T113606
CREATED:20210627T203249Z
LAST-MODIFIED:20210627T203249Z
UID:1657-1625184000-1625270399@frenchcreekfarms.com
SUMMARY:July 4th Celebration with "Re•Issue" and Fireworks!
DESCRIPTION:When: Friday – July 2nd  \nWhere: French Creek Farms at the Barn \nTime: Doors open at 6pm\, Band (Re•Issue) from 7pm to 10pm\, Fireworks to follow! \nBeer and Food available. \nRe-Issue at French Creek Farms
URL:https://frenchcreekfarms.com/event/july-4th-celebration-with-re%e2%80%a2issue-and-fireworks/
LOCATION:French Creek Farms\, 1976 Grant St.\, Utica\, PA\, 16362\, United States
END:VEVENT
BEGIN:VEVENT
DTSTART;TZID=America/New_York:20190928T140000
DTEND;TZID=America/New_York:20190928T220000
DTSTAMP:20260423T113606
CREATED:20190809T105353Z
LAST-MODIFIED:20190809T105749Z
UID:1644-1569679200-1569708000@frenchcreekfarms.com
SUMMARY:Stars & Stripes Music Festival
DESCRIPTION:Join us for a day of family fun! Games\, fishing contest for kids under 12 years old\, cornhole\, adult beverages\, live bands\, dancing\, food\, raffle-prizes\, and more. Oh\, and a pig roast\, too!!! \nCome rain or shine\, we will have plenty of cover for everyone to stay dry.
URL:https://frenchcreekfarms.com/event/stars-stripes-music-festival/
LOCATION:French Creek Farms\, 1976 Grant St.\, Utica\, PA\, 16362\, United States
ATTACH;FMTTYPE=image/jpeg:https://frenchcreekfarms.com/wp-content/uploads/2019/08/stars-and-stripes-2.jpg
END:VEVENT
BEGIN:VEVENT
DTSTART;VALUE=DATE:20190928
DTEND;VALUE=DATE:20190929
DTSTAMP:20260423T113606
CREATED:20190610T204630Z
LAST-MODIFIED:20190610T204630Z
UID:1503-1569628800-1569715199@frenchcreekfarms.com
SUMMARY:Labor Day Weekend Event
DESCRIPTION:August 28th to September 2nd\, 2019. \nExtra kids activities . \nDog show & contest. \nMore details to follow.
URL:https://frenchcreekfarms.com/event/labor-day-weekend-event/
LOCATION:French Creek Farms\, 1976 Grant St.\, Utica\, PA\, 16362\, United States
END:VEVENT
BEGIN:VEVENT
DTSTART;VALUE=DATE:20190818
DTEND;VALUE=DATE:20190819
DTSTAMP:20260423T113606
CREATED:20190610T204217Z
LAST-MODIFIED:20190610T204217Z
UID:1501-1566086400-1566172799@frenchcreekfarms.com
SUMMARY:Lazy River Weekend
DESCRIPTION:Live music and anything that floats. Shuttle available from Carlton Bridge to French Creek Farms.
URL:https://frenchcreekfarms.com/event/lazy-river-weekend-2/
LOCATION:French Creek Farms\, 1976 Grant St.\, Utica\, PA\, 16362\, United States
END:VEVENT
BEGIN:VEVENT
DTSTART;VALUE=DATE:20190817
DTEND;VALUE=DATE:20190818
DTSTAMP:20260423T113606
CREATED:20190610T204126Z
LAST-MODIFIED:20190610T204126Z
UID:1499-1566000000-1566086399@frenchcreekfarms.com
SUMMARY:Lazy River Weekend
DESCRIPTION:Live music and anything that floats. Shuttle available from Carlton Bridge to French Creek Farms.
URL:https://frenchcreekfarms.com/event/lazy-river-weekend/
LOCATION:French Creek Farms\, 1976 Grant St.\, Utica\, PA\, 16362\, United States
END:VEVENT
BEGIN:VEVENT
DTSTART;VALUE=DATE:20190720
DTEND;VALUE=DATE:20190721
DTSTAMP:20260423T113606
CREATED:20190610T204002Z
LAST-MODIFIED:20190610T204300Z
UID:1496-1563580800-1563667199@frenchcreekfarms.com
SUMMARY:Nicklin Garage (Utica Fire Department) Annual Ground Hog Hunt
DESCRIPTION:
URL:https://frenchcreekfarms.com/event/nicklin-garage-utica-fire-department-annual-ground-hog-hunt/
LOCATION:Nicklin Garage\, 848 New Lebanon Rd\, Carlton\, PA\, 16311\, United States
END:VEVENT
BEGIN:VEVENT
DTSTART;TZID=America/New_York:20190707T054500
DTEND;TZID=America/New_York:20190707T190000
DTSTAMP:20260423T113606
CREATED:20190619T115835Z
LAST-MODIFIED:20190623T092219Z
UID:1624-1562478300-1562526000@frenchcreekfarms.com
SUMMARY:French Creek Farms - 1st Annual Rod & Gun Weekend
DESCRIPTION:1st Annual Rod and Gun Weekend.\nHunt groundhogs on local farms and fish on beautiful French Creek. \n  \nWhen: July 5th\, 6th\, and 7th. \nWhere: French Creek Farms – 1976 Grant Street Utica\, PA. 16362. \nRegistration for both events is Friday July 5th between 5 and 8 pm. \nKaraoke from 8pm to 10pm – cash prizes for winners. \n$5.00 entry fee – BYOB. \n\nStart times for both events: DAWN Saturday July 6th & July 7th – Ends at 7pm sharp!!! \nCash prizes for top three fish – Cash prizes for biggest and smallest groundhogs \nBoth youth and adult categories – $20.00 per adult and $10.00 for kids under twelve \n\nMore Details: \nAny person is eligible to participate in both events providing they have a PA hunting or fishing license. All youth must be accompanied by a licensed adult. – Rules clarified at 8pm \nAll PA hunting/fishing rules and safety regulations apply. \n\nFishing: \nWe will have cash prizes and trophies for the largest fish and bass \nThis is a catch and release contest – fish will be judged and awarded based on length \n\nHunting: \nWe will award cash prizes ($200 biggest – $100.00 Smallest) for both adult and youth \nHunters will hunt in groups of two – hunt by permission only \nHogs will be judged and awarded according to weight – ties can split or flip for money. \n\nSunday Noon – Lazy River (anything that floats Day) – go to Church and then meet at the barn at noon – bring anything that floats and your favorite beverages – enjoy \nFood\, limited beverages\, fireworks\, and music provided with registration – There will be tons of other family activities all weekend. Please bring the whole family. Reserve your camping and get more details at FrenchCreekFarms.com or call 814-425-1252. \n\nProceeds will support the Utica Vol. Ambulance and local farmer \n2019 ROD & GUN WEEKEND POSTERS
URL:https://frenchcreekfarms.com/event/french-creek-farms-1st-annual-rod-gun-weekend/
LOCATION:French Creek Farms\, 1976 Grant St.\, Utica\, PA\, 16362\, United States
ATTACH;FMTTYPE=image/jpeg:https://frenchcreekfarms.com/wp-content/uploads/2019/06/2019-Rod-and-Gun-Event-Header-6.jpg
END:VEVENT
BEGIN:VEVENT
DTSTART;TZID=America/New_York:20190706T054500
DTEND;TZID=America/New_York:20190706T190000
DTSTAMP:20260423T113606
CREATED:20190619T111837Z
LAST-MODIFIED:20190623T092112Z
UID:1604-1562391900-1562439600@frenchcreekfarms.com
SUMMARY:French Creek Farms - 1st Annual Rod and Gun Weekend
DESCRIPTION:1st Annual Rod and Gun Weekend.\nHunt groundhogs on local farms and fish on beautiful French Creek. \nWhen: July 5th\, 6th\, and 7th. \nWhere: French Creek Farms – 1976 Grant Street Utica\, PA. 16362. \nRegistration for both events is Friday July 5th between 5 and 8 pm. \nKaraoke from 8pm to 10pm – cash prizes for winners. \n$5.00 entry fee – BYOB. \n\nStart times for both events: DAWN Saturday July 6th & July 7th – Ends at 7pm sharp!!! \nCash prizes for top three fish – Cash prizes for biggest and smallest groundhogs \nBoth youth and adult categories – $20.00 per adult and $10.00 for kids under twelve \n\nMore Details: \nAny person is eligible to participate in both events providing they have a PA hunting or fishing license. All youth must be accompanied by a licensed adult. – Rules clarified at 8pm \nAll PA hunting/fishing rules and safety regulations apply. \n\nFishing: \nWe will have cash prizes and trophies for the largest fish and bass \nThis is a catch and release contest – fish will be judged and awarded based on length \n\nHunting: \nWe will award cash prizes ($200 biggest – $100.00 Smallest) for both adult and youth \nHunters will hunt in groups of two – hunt by permission only \nHogs will be judged and awarded according to weight – ties can split or flip for money. \n\nSunday Noon – Lazy River (anything that floats Day) – go to Church and then meet at the barn at noon – bring anything that floats and your favorite beverages – enjoy \nFood\, limited beverages\, fireworks\, and music provided with registration – There will be tons of other family activities all weekend. Please bring the whole family. Reserve your camping and get more details at FrenchCreekFarms.com or call 814-425-1252. \n\nProceeds will support the Utica Vol. Ambulance and local farmer \n2019 ROD & GUN WEEKEND POSTERS
URL:https://frenchcreekfarms.com/event/french-creek-farms-1st-annual-rod-and-gun-weekend/
LOCATION:French Creek Farms\, 1976 Grant St.\, Utica\, PA\, 16362\, United States
ATTACH;FMTTYPE=image/jpeg:https://frenchcreekfarms.com/wp-content/uploads/2019/06/2019-Rod-and-Gun-Event-Header-6.jpg
END:VEVENT
BEGIN:VEVENT
DTSTART;TZID=America/New_York:20190705T170000
DTEND;TZID=America/New_York:20190705T200000
DTSTAMP:20260423T113606
CREATED:20190610T200952Z
LAST-MODIFIED:20190623T092325Z
UID:1487-1562346000-1562356800@frenchcreekfarms.com
SUMMARY:French Creek Farms - 1st Annual Rod & Gun Weekend
DESCRIPTION:1st Annual Rod and Gun Weekend.\nHunt groundhogs on local farms and fish on beautiful French Creek. \nWhen: July 5th\, 6th\, and 7th. \nWhere: French Creek Farms – 1976 Grant Street Utica\, PA. 16362. \nRegistration for both events is Friday July 5th between 5 and 8 pm. \nKaraoke from 8pm to 10pm – cash prizes for winners. \n$5.00 entry fee – BYOB. \n\nStart times for both events: DAWN Saturday July 6th & July 7th – Ends at 7pm sharp!!! \nCash prizes for top three fish – Cash prizes for biggest and smallest groundhogs \nBoth youth and adult categories – $20.00 per adult and $10.00 for kids under twelve \n\nMore Details: \nAny person is eligible to participate in both events providing they have a PA hunting or fishing license. All youth must be accompanied by a licensed adult. – Rules clarified at 8pm \nAll PA hunting/fishing rules and safety regulations apply. \n\nFishing: \nWe will have cash prizes and trophies for the largest fish and bass \nThis is a catch and release contest – fish will be judged and awarded based on length \n\nHunting: \nWe will award cash prizes ($200 biggest – $100.00 Smallest) for both adult and youth \nHunters will hunt in groups of two – hunt by permission only \nHogs will be judged and awarded according to weight – ties can split or flip for money. \n\nSunday Noon – Lazy River (anything that floats Day) – go to Church and then meet at the barn at noon – bring anything that floats and your favorite beverages – enjoy \nFood\, limited beverages\, fireworks\, and music provided with registration – There will be tons of other family activities all weekend. Please bring the whole family. Reserve your camping and get more details at FrenchCreekFarms.com or call 814-425-1252. \n\nProceeds will support the Utica Vol. Ambulance and local farmer \n2019 ROD & GUN WEEKEND POSTERS
URL:https://frenchcreekfarms.com/event/french-creek-farms-festival/
LOCATION:French Creek Farms\, 1976 Grant St.\, Utica\, PA\, 16362\, United States
ATTACH;FMTTYPE=image/jpeg:https://frenchcreekfarms.com/wp-content/uploads/2019/06/2019-Rod-and-Gun-Event-Header-6.jpg
END:VEVENT
BEGIN:VEVENT
DTSTART;TZID=America/New_York:20190616T120000
DTEND;TZID=America/New_York:20190616T170000
DTSTAMP:20260423T113606
CREATED:20190610T200128Z
LAST-MODIFIED:20190612T151609Z
UID:1482-1560686400-1560704400@frenchcreekfarms.com
SUMMARY:Franklin Blues & Barbecue Festival
DESCRIPTION:FREE outdoors Blues Music Festival in Franklin\, PA on JUNE 15 & 16\, 2019. Two full days of internationally acclaimed Blues Artists accompanied by the best regional barbecue vendors that we can find. All proceeds benefit Venango County high school music. \nSUNDAY\, JUNE 16\, 2019 LINEUP:\nOil City High School Musical Group\nBryan Schwab and the Static Gypsies\nDan Bubien Acoustic Blues Duo\nRay Fuller and the Bluesrockers\nMiss Freddye’s Blues Band
URL:https://frenchcreekfarms.com/event/franklin-blues-barbecue-festival-2/
LOCATION:Bandstand Park\, Franklin\, PA\, United States
END:VEVENT
BEGIN:VEVENT
DTSTART;TZID=America/New_York:20190615T120000
DTEND;TZID=America/New_York:20190615T210000
DTSTAMP:20260423T113606
CREATED:20190610T195936Z
LAST-MODIFIED:20190612T151717Z
UID:1478-1560600000-1560632400@frenchcreekfarms.com
SUMMARY:Franklin Blues & Barbecue Festival
DESCRIPTION:FREE outdoors Blues Music Festival in Franklin\, PA on JUNE 15 & 16\, 2019. Two full days of internationally acclaimed Blues Artists accompanied by the best regional barbecue vendors that we can find. All proceeds benefit Venango County high school music \nSATURDAY\, JUNE 15\, 2019 LINEUP:\nRodger Montgomery\nThe Riff Riders\nStevee Wellons Band\nFranklin High School Jazz Band (w/special guests)\nMax Schang Band with John Burgh\nVanessa Collier
URL:https://frenchcreekfarms.com/event/franklin-blues-barbecue-festival/
LOCATION:Bandstand Park\, Franklin\, PA\, United States
END:VEVENT
BEGIN:VEVENT
DTSTART;VALUE=DATE:20190615
DTEND;VALUE=DATE:20190616
DTSTAMP:20260423T113606
CREATED:20190610T200634Z
LAST-MODIFIED:20190610T223548Z
UID:1484-1560556800-1560643199@frenchcreekfarms.com
SUMMARY:French Creek Poker Run
DESCRIPTION:Cochranton French Creek Poker Run
URL:https://frenchcreekfarms.com/event/cochranton-french-creek-poker-run/
LOCATION:Cochranton\, Cochranton\, PA\, United States
END:VEVENT
END:VCALENDAR